BEGIN:VCALENDAR
VERSION:2.0
PRODID:-//The Montana Bicycle Guild - ECPv6.15.20//NONSGML v1.0//EN
CALSCALE:GREGORIAN
METHOD:PUBLISH
X-WR-CALNAME:The Montana Bicycle Guild
X-ORIGINAL-URL:https://www.montanabicycleguild.org
X-WR-CALDESC:Events for The Montana Bicycle Guild
REFRESH-INTERVAL;VALUE=DURATION:PT1H
X-Robots-Tag:noindex
X-PUBLISHED-TTL:PT1H
BEGIN:VTIMEZONE
TZID:America/Denver
BEGIN:DAYLIGHT
TZOFFSETFROM:-0700
TZOFFSETTO:-0600
TZNAME:MDT
DTSTART:20250309T090000
END:DAYLIGHT
BEGIN:STANDARD
TZOFFSETFROM:-0600
TZOFFSETTO:-0700
TZNAME:MST
DTSTART:20251102T080000
END:STANDARD
BEGIN:DAYLIGHT
TZOFFSETFROM:-0700
TZOFFSETTO:-0600
TZNAME:MDT
DTSTART:20260308T090000
END:DAYLIGHT
BEGIN:STANDARD
TZOFFSETFROM:-0600
TZOFFSETTO:-0700
TZNAME:MST
DTSTART:20261101T080000
END:STANDARD
BEGIN:DAYLIGHT
TZOFFSETFROM:-0700
TZOFFSETTO:-0600
TZNAME:MDT
DTSTART:20270314T090000
END:DAYLIGHT
BEGIN:STANDARD
TZOFFSETFROM:-0600
TZOFFSETTO:-0700
TZNAME:MST
DTSTART:20271107T080000
END:STANDARD
END:VTIMEZONE
BEGIN:VEVENT
DTSTART;TZID=America/Denver:20260412T160000
DTEND;TZID=America/Denver:20260412T173000
DTSTAMP:20260421T161046
CREATED:20260221T012356Z
LAST-MODIFIED:20260307T002213Z
UID:1755-1776009600-1776015000@www.montanabicycleguild.org
SUMMARY:Suspension 101 Workshop with Aurum Suspension
DESCRIPTION:Suspension 101 Registration \nSuspension 101 is a hands-on workshop for riders who want a smoother\, safer\, and more enjoyable time on the trail. Mike Williamson at Aurum Suspension has graciously offered his time and expertise to help the MBG raise funds for the new 1.5 mile downhill trail in the Scratchgravels.  \nAurum Suspension is owned and operated by Mike Williamson\, an engineer by training and master bicycle mechanic who has worked in the bike industry since the mid-1990s.  \nThe Suspension 101 workshop will cover the following: \n\nSuspension History\nIntro to Suspension (Coil Spring\, Air Spring)\nDamping (Compression\, High Speed Compression)\nRebound (Low Speed Rebound\, High Speed Rebound) \nBike Set-Up (bring your bike please)
URL:https://www.montanabicycleguild.org/event/suspension-101-workshop-aurum-suspension/
LOCATION:Aurum Suspension\, 2668 Broadwater Ave\, Helena\, MT\, 59602
ORGANIZER;CN="MBG":MAILTO:info@montanabicycleguild.org
END:VEVENT
BEGIN:VEVENT
DTSTART;TZID=America/Denver:20260228T190000
DTEND;TZID=America/Denver:20260228T230000
DTSTAMP:20260421T161046
CREATED:20260221T011046Z
LAST-MODIFIED:20260221T014503Z
UID:1745-1772305200-1772319600@www.montanabicycleguild.org
SUMMARY:Saturday Dueling Pianos Battle 2
DESCRIPTION:Cancer Support Community Helena VS Bike Helena\n  \nProfits for Bike Helena go to the Scratchgravel Hills Recreation Plan trails.
URL:https://www.montanabicycleguild.org/event/saturday-dueling-pianos-battle-2/
LOCATION:Best Western Premier Great Northern Hotel\, 835 Great Northern Blvd\, Helena\, MT
ORGANIZER;CN="United Way of the Lewis and Clark Area":MAILTO:info@unitedwaylca.org
END:VEVENT
BEGIN:VEVENT
DTSTART;VALUE=DATE:20260228
DTEND;VALUE=DATE:20260301
DTSTAMP:20260421T161046
CREATED:20260228T020427Z
LAST-MODIFIED:20260228T021136Z
UID:1866-1772236800-1772323199@www.montanabicycleguild.org
SUMMARY:Montana Enduro Series 2026 Registration Opens!
DESCRIPTION:Visit us on CCN Bikes to race with us! 2026 MES Registration on CCN Bikes
URL:https://www.montanabicycleguild.org/event/montana-enduro-series-2026-registration-opens/
END:VEVENT
BEGIN:VEVENT
DTSTART;TZID=America/Denver:20260225T180000
DTEND;TZID=America/Denver:20260225T190000
DTSTAMP:20260421T161046
CREATED:20260219T204636Z
LAST-MODIFIED:20260221T005224Z
UID:1620-1772042400-1772046000@www.montanabicycleguild.org
SUMMARY:MBG Trail Committee Meeting
DESCRIPTION:Join us to discuss the upcoming trail season activities\, volunteer opportunities\, and dates for trail building. Projects will include work in the Scratchgravel Hills\, upkeep on Forest Service trails and more! \nThere is lot going on this summer. We need YOU to help our ALL volunteer crew get it done!\n \n  \nPlease email jeff@montanabicycleguild.org with any questions or ideas.
URL:https://www.montanabicycleguild.org/event/mbg-trail-committee-meeting/
LOCATION:MBG Office\, 318 N Last Chance Gulch Suite 2D\, Helena\, MT\, 59601
END:VEVENT
END:VCALENDAR