BEGIN:VCALENDAR
VERSION:2.0
PRODID:-//The Montana Bicycle Guild - ECPv6.15.20//NONSGML v1.0//EN
CALSCALE:GREGORIAN
METHOD:PUBLISH
X-ORIGINAL-URL:https://www.montanabicycleguild.org
X-WR-CALDESC:Events for The Montana Bicycle Guild
REFRESH-INTERVAL;VALUE=DURATION:PT1H
X-Robots-Tag:noindex
X-PUBLISHED-TTL:PT1H
BEGIN:VTIMEZONE
TZID:America/Denver
BEGIN:DAYLIGHT
TZOFFSETFROM:-0700
TZOFFSETTO:-0600
TZNAME:MDT
DTSTART:20250309T090000
END:DAYLIGHT
BEGIN:STANDARD
TZOFFSETFROM:-0600
TZOFFSETTO:-0700
TZNAME:MST
DTSTART:20251102T080000
END:STANDARD
BEGIN:DAYLIGHT
TZOFFSETFROM:-0700
TZOFFSETTO:-0600
TZNAME:MDT
DTSTART:20260308T090000
END:DAYLIGHT
BEGIN:STANDARD
TZOFFSETFROM:-0600
TZOFFSETTO:-0700
TZNAME:MST
DTSTART:20261101T080000
END:STANDARD
BEGIN:DAYLIGHT
TZOFFSETFROM:-0700
TZOFFSETTO:-0600
TZNAME:MDT
DTSTART:20270314T090000
END:DAYLIGHT
BEGIN:STANDARD
TZOFFSETFROM:-0600
TZOFFSETTO:-0700
TZNAME:MST
DTSTART:20271107T080000
END:STANDARD
END:VTIMEZONE
BEGIN:VEVENT
DTSTART;TZID=America/Denver:20260426T170000
DTEND;TZID=America/Denver:20260426T200000
DTSTAMP:20260421T125334
CREATED:20260221T013030Z
LAST-MODIFIED:20260302T205341Z
UID:1761-1777222800-1777233600@www.montanabicycleguild.org
SUMMARY:Ritual MTB Film
DESCRIPTION:Save the date to join us for all the stoke of the Ritual Mountain Bike film! Details on the way…
URL:https://www.montanabicycleguild.org/event/ritual-mtb-film/
ORGANIZER;CN="MBG":MAILTO:info@montanabicycleguild.org
END:VEVENT
BEGIN:VEVENT
DTSTART;VALUE=DATE:20260606
DTEND;VALUE=DATE:20260607
DTSTAMP:20260421T125334
CREATED:20260221T021856Z
LAST-MODIFIED:20260221T021856Z
UID:1783-1780704000-1780790399@www.montanabicycleguild.org
SUMMARY:National Trails Day
DESCRIPTION:Volunteer trail work info coming soon!
URL:https://www.montanabicycleguild.org/event/national-trails-day/
ORGANIZER;CN="MBG":MAILTO:info@montanabicycleguild.org
END:VEVENT
BEGIN:VEVENT
DTSTART;TZID=America/Denver:20260627T070000
DTEND;TZID=America/Denver:20260627T150000
DTSTAMP:20260421T125334
CREATED:20260221T022157Z
LAST-MODIFIED:20260305T211538Z
UID:1785-1782543600-1782572400@www.montanabicycleguild.org
SUMMARY:Helenduro!
DESCRIPTION:The one\, the only\, the original Helenduro in beautiful Helena\, MT! Register on CCN Bikes
URL:https://www.montanabicycleguild.org/event/helenduro/
LOCATION:Helena\, Montana\, Helena\, MT\, 59601
END:VEVENT
BEGIN:VEVENT
DTSTART;TZID=America/Denver:20260718T070000
DTEND;TZID=America/Denver:20260718T150000
DTSTAMP:20260421T125334
CREATED:20260221T022922Z
LAST-MODIFIED:20260305T211450Z
UID:1788-1784358000-1784386800@www.montanabicycleguild.org
SUMMARY:Marshall Madness
DESCRIPTION:The newest addition to the Montana Enduro Series! Register on CCN Bikes
URL:https://www.montanabicycleguild.org/event/marshall-mountain-enduro/
LOCATION:Marshall Mountain\, 5250 Marshall Canyon Rd\, Missoula\, MT\, 59802
END:VEVENT
BEGIN:VEVENT
DTSTART;TZID=America/Denver:20260808T070000
DTEND;TZID=America/Denver:20260808T150000
DTSTAMP:20260421T125334
CREATED:20260221T023458Z
LAST-MODIFIED:20260305T023048Z
UID:1793-1786172400-1786201200@www.montanabicycleguild.org
SUMMARY:Enduro Pescado
DESCRIPTION:THE huckleberry classic of the Montana Enduro Series! Register on CCN Bikes
URL:https://www.montanabicycleguild.org/event/enduro-pescado/
LOCATION:Whitefish Mountain Resort\, 1015 Glades Drive\, Whitefish\, MT\, 59937
END:VEVENT
END:VCALENDAR